BEGIN:VCALENDAR
VERSION:2.0
PRODID:-//Christchurch Abbeydale - ECPv5.0.3.1//NONSGML v1.0//EN
CALSCALE:GREGORIAN
METHOD:PUBLISH
X-WR-CALNAME:Christchurch Abbeydale
X-ORIGINAL-URL:https://christchurchabbeydale.org.uk
X-WR-CALDESC:Events for Christchurch Abbeydale
BEGIN:VTIMEZONE
TZID:Europe/London
BEGIN:DAYLIGHT
TZOFFSETFROM:+0000
TZOFFSETTO:+0100
TZNAME:BST
DTSTART:20210328T010000
END:DAYLIGHT
BEGIN:STANDARD
TZOFFSETFROM:+0100
TZOFFSETTO:+0000
TZNAME:GMT
DTSTART:20211031T010000
END:STANDARD
END:VTIMEZONE
BEGIN:VEVENT
DTSTART;TZID=Europe/London:20211127T100000
DTEND;TZID=Europe/London:20211127T130000
DTSTAMP:20260421T122612
CREATED:20211031T162335Z
LAST-MODIFIED:20211031T162948Z
UID:4498-1638007200-1638018000@christchurchabbeydale.org.uk
SUMMARY:Christmas Mini Market
DESCRIPTION:Full of gift ideas from our own local talent. After browsing enjoy coffee / tea and cake. \n
URL:https://christchurchabbeydale.org.uk/event/christmas-mini-market/
LOCATION:Christchurch Abbeydale\, Heron Way\, Gloucester\, GL4 5EQ\, United Kingdom
END:VEVENT
END:VCALENDAR